BEGIN:VCALENDAR
VERSION:2.0
PRODID:-//Helderberg Homebrew Club - ECPv6.15.20//NONSGML v1.0//EN
CALSCALE:GREGORIAN
METHOD:PUBLISH
X-ORIGINAL-URL:https://helderberghomebrewclub.co.za
X-WR-CALDESC:Events for Helderberg Homebrew Club
REFRESH-INTERVAL;VALUE=DURATION:PT1H
X-Robots-Tag:noindex
X-PUBLISHED-TTL:PT1H
BEGIN:VTIMEZONE
TZID:Africa/Johannesburg
BEGIN:STANDARD
TZOFFSETFROM:+0200
TZOFFSETTO:+0200
TZNAME:SAST
DTSTART:20230101T000000
END:STANDARD
END:VTIMEZONE
BEGIN:VEVENT
DTSTART;TZID=Africa/Johannesburg:20241121T180000
DTEND;TZID=Africa/Johannesburg:20241121T210000
DTSTAMP:20260423T212416
CREATED:20231230T111218Z
LAST-MODIFIED:20240903T085141Z
UID:1992-1732212000-1732222800@helderberghomebrewclub.co.za
SUMMARY:Competition 5: Proudly South African!
DESCRIPTION:Limited to South African malts (you may modify some of it/adjuncts\, hops (SAB hop varieties)\, and for yeast you have three options: US05\, South African supermarket yeast (African yeast) or if you are a superstar and cultivated your own yeast out of your garden or the wild\, go for it!.
URL:https://helderberghomebrewclub.co.za/event/competition-5-proudly-south-african/
LOCATION:Triggerfish Brewing
CATEGORIES:Competitions 24
ATTACH;FMTTYPE=image/jpeg:https://helderberghomebrewclub.co.za/wp-content/uploads/2023/12/Competition5-Post.jpg
END:VEVENT
BEGIN:VEVENT
DTSTART;VALUE=DATE:20240909
DTEND;VALUE=DATE:20240910
DTSTAMP:20260423T212416
CREATED:20231230T105908Z
LAST-MODIFIED:20240903T085309Z
UID:1989-1725840000-1725926399@helderberghomebrewclub.co.za
SUMMARY:Competition 4: British Styles
DESCRIPTION:The Great British Beer-off. Getting ready for another exciting Interclub with the top scoring recipes getting entered into the WP Cup. \nA reminder that you should drop your Brit competition beers (4x 440ml) @Lilypatrick during their open hours. Must be in by Monday (9th) afternoon. Alternatively\, you can organise & drop your beer @⁨Craig Claasen⁩.
URL:https://helderberghomebrewclub.co.za/event/competition-4-british-styles/
CATEGORIES:Competitions 24
ATTACH;FMTTYPE=image/jpeg:https://helderberghomebrewclub.co.za/wp-content/uploads/2023/12/Competition_4-Post.jpg
END:VEVENT
BEGIN:VEVENT
DTSTART;TZID=Africa/Johannesburg:20240718T180000
DTEND;TZID=Africa/Johannesburg:20240718T180000
DTSTAMP:20260423T212416
CREATED:20231230T104924Z
LAST-MODIFIED:20240103T181909Z
UID:1987-1721325600-1721325600@helderberghomebrewclub.co.za
SUMMARY:Competition 3: High ABV Beer
DESCRIPTION:Brace yourself for a robust journey that packs a punch! Bold\, boozy and warming – brew any style above 8% ABV.
URL:https://helderberghomebrewclub.co.za/event/competition-3-high-abv-beer/
LOCATION:Lilypatrick
CATEGORIES:Competitions 24
ATTACH;FMTTYPE=image/jpeg:https://helderberghomebrewclub.co.za/wp-content/uploads/2023/12/Competition3-Post.jpg
END:VEVENT
BEGIN:VEVENT
DTSTART;TZID=Africa/Johannesburg:20240418T180000
DTEND;TZID=Africa/Johannesburg:20240418T180000
DTSTAMP:20260423T212416
CREATED:20231230T104710Z
LAST-MODIFIED:20240103T181915Z
UID:1981-1713463200-1713463200@helderberghomebrewclub.co.za
SUMMARY:Competition 2: SMASH
DESCRIPTION:Showcasing solo star ingredients that sing together in harmony. Any BJCP style\, but stick to Single Malt and Single Hop.
URL:https://helderberghomebrewclub.co.za/event/competition-2-smash/
LOCATION:Triggerfish Brewing
CATEGORIES:Competitions 24
ATTACH;FMTTYPE=image/jpeg:https://helderberghomebrewclub.co.za/wp-content/uploads/2023/12/Competition2-Post.jpg
END:VEVENT
BEGIN:VEVENT
DTSTART;TZID=Africa/Johannesburg:20240215T180000
DTEND;TZID=Africa/Johannesburg:20240215T210000
DTSTAMP:20260423T212416
CREATED:20231230T095358Z
LAST-MODIFIED:20240103T181921Z
UID:1978-1708020000-1708030800@helderberghomebrewclub.co.za
SUMMARY:Competition 1: Czech Premium Pale Lager
DESCRIPTION:Putting our best Lager foot forward\, getting ready for F&F7 Interclub Comp
URL:https://helderberghomebrewclub.co.za/event/competition-1-czech-premium-pale-lager/
LOCATION:Triggerfish Brewing
CATEGORIES:Competitions 24
ATTACH;FMTTYPE=image/jpeg:https://helderberghomebrewclub.co.za/wp-content/uploads/2023/12/Competition1-Post.jpg
END:VEVENT
END:VCALENDAR